BEGIN:VCALENDAR
VERSION:2.0
PRODID:-//Valleybrook Country Club - ECPv6.15.12.2//NONSGML v1.0//EN
CALSCALE:GREGORIAN
METHOD:PUBLISH
X-WR-CALNAME:Valleybrook Country Club
X-ORIGINAL-URL:https://valleybrookgolf.com
X-WR-CALDESC:Events for Valleybrook Country Club
REFRESH-INTERVAL;VALUE=DURATION:PT1H
X-Robots-Tag:noindex
X-PUBLISHED-TTL:PT1H
BEGIN:VTIMEZONE
TZID:UTC
BEGIN:STANDARD
TZOFFSETFROM:+0000
TZOFFSETTO:+0000
TZNAME:UTC
DTSTART:20250101T000000
END:STANDARD
END:VTIMEZONE
BEGIN:VEVENT
DTSTART;VALUE=DATE:20260429
DTEND;VALUE=DATE:20260430
DTSTAMP:20260424T221136
CREATED:20260319T201049Z
LAST-MODIFIED:20260327T160632Z
UID:10000685-1777420800-1777507199@valleybrookgolf.com
SUMMARY:Wine Down Wednesdays
DESCRIPTION:Join us inside Riley’s Pub and Wine Down on Wednesdays! $5 glasses of wine ALL DAY!
URL:https://valleybrookgolf.com/event/wine-down-wednesdays-2/2026-04-29/
ATTACH;FMTTYPE=image/jpeg:https://valleybrookgolf.com/wp-content/uploads/2025/03/wine-down-wednesday.jpg
END:VEVENT
END:VCALENDAR