BEGIN:VCALENDAR
VERSION:2.0
PRODID:-//Valleybrook Country Club - ECPv6.15.12.2//NONSGML v1.0//EN
CALSCALE:GREGORIAN
METHOD:PUBLISH
X-WR-CALNAME:Valleybrook Country Club
X-ORIGINAL-URL:https://valleybrookgolf.com
X-WR-CALDESC:Events for Valleybrook Country Club
REFRESH-INTERVAL;VALUE=DURATION:PT1H
X-Robots-Tag:noindex
X-PUBLISHED-TTL:PT1H
BEGIN:VTIMEZONE
TZID:UTC
BEGIN:STANDARD
TZOFFSETFROM:+0000
TZOFFSETTO:+0000
TZNAME:UTC
DTSTART:20250101T000000
END:STANDARD
END:VTIMEZONE
BEGIN:VEVENT
DTSTART;TZID=UTC:20260501T180000
DTEND;TZID=UTC:20260501T210000
DTSTAMP:20260425T013735
CREATED:20260327T160042Z
LAST-MODIFIED:20260327T160042Z
UID:10000691-1777658400-1777669200@valleybrookgolf.com
SUMMARY:Live Music Fridays
DESCRIPTION:Join us inside Riley’s Pub for Live Music from 6-9 PM! See our May lineup: \n\n5/1 – Acoustic Phil\n5/8 – Steve Bolognone\n5/15 – Leanne Tursi\n5/22 – Joe Donnelly\n5/29 – Matt MacPherson
URL:https://valleybrookgolf.com/event/live-music-fridays-46/
ATTACH;FMTTYPE=image/jpeg:https://valleybrookgolf.com/wp-content/uploads/2025/03/live-music-2.jpg
END:VEVENT
BEGIN:VEVENT
DTSTART;TZID=UTC:20260504T160000
DTEND;TZID=UTC:20260504T210000
DTSTAMP:20260425T013735
CREATED:20250312T175142Z
LAST-MODIFIED:20260327T160306Z
UID:10000157-1777910400-1777928400@valleybrookgolf.com
SUMMARY:Martini Mondays
DESCRIPTION:Join us inside Riley’s Pub every Monday for Martini Mondays! Deals take place from 4-9 PM!
URL:https://valleybrookgolf.com/event/martini-mondays/2026-05-04/
ATTACH;FMTTYPE=image/jpeg:https://valleybrookgolf.com/wp-content/uploads/2025/03/martini-mondays.jpg
END:VEVENT
BEGIN:VEVENT
DTSTART;TZID=UTC:20260505T160000
DTEND;TZID=UTC:20260505T210000
DTSTAMP:20260425T013735
CREATED:20250312T175442Z
LAST-MODIFIED:20260327T160349Z
UID:10000218-1777996800-1778014800@valleybrookgolf.com
SUMMARY:Taco Tuesday
DESCRIPTION:Join us inside Riley’s Pub every Tuesday for Taco Tuesday! Specials take place from 4-9 PM!
URL:https://valleybrookgolf.com/event/taco-tuesday/2026-05-05/
ATTACH;FMTTYPE=image/jpeg:https://valleybrookgolf.com/wp-content/uploads/2025/03/taco-tuesdays.jpg
END:VEVENT
BEGIN:VEVENT
DTSTART;VALUE=DATE:20260506
DTEND;VALUE=DATE:20260507
DTSTAMP:20260425T013735
CREATED:20260319T201049Z
LAST-MODIFIED:20260327T160632Z
UID:10000686-1778025600-1778111999@valleybrookgolf.com
SUMMARY:Wine Down Wednesdays
DESCRIPTION:Join us inside Riley’s Pub and Wine Down on Wednesdays! $5 glasses of wine ALL DAY!
URL:https://valleybrookgolf.com/event/wine-down-wednesdays-2/2026-05-06/
ATTACH;FMTTYPE=image/jpeg:https://valleybrookgolf.com/wp-content/uploads/2025/03/wine-down-wednesday.jpg
END:VEVENT
BEGIN:VEVENT
DTSTART;VALUE=DATE:20260507
DTEND;VALUE=DATE:20260508
DTSTAMP:20260425T013735
CREATED:20260319T201016Z
LAST-MODIFIED:20260327T160754Z
UID:10000679-1778112000-1778198399@valleybrookgolf.com
SUMMARY:Tito's Thursdays
DESCRIPTION:Join us inside Riley’s Pub every Thursday for $5 Tito’s drinks all day long!
URL:https://valleybrookgolf.com/event/titos-thursdays-2/2026-05-07/
ATTACH;FMTTYPE=image/jpeg:https://valleybrookgolf.com/wp-content/uploads/2025/03/titos-thursdays.jpg
END:VEVENT
BEGIN:VEVENT
DTSTART;TZID=UTC:20260510T104500
DTEND;TZID=UTC:20260510T134500
DTSTAMP:20260425T013735
CREATED:20260330T224710Z
LAST-MODIFIED:20260417T163125Z
UID:10001716-1778409900-1778420700@valleybrookgolf.com
SUMMARY:Mother's Day Brunch
DESCRIPTION:Valleybrook Country Club is excited to host our famous Mother’s Day Brunch once again on Sunday\, May 10th! Our culinary team is preparing a decadent display of all of your favorites – including Carving Stations\, Kids Buffet and of course Dessert! \nClick HERE to reserve your table.
URL:https://valleybrookgolf.com/event/mothers-day-brunch-2/
ATTACH;FMTTYPE=image/jpeg:https://valleybrookgolf.com/wp-content/uploads/2026/03/RJG-1920-x-1080-px-6-5.24.07-PM.jpg
END:VEVENT
BEGIN:VEVENT
DTSTART;TZID=UTC:20260830T170000
DTEND;TZID=UTC:20260830T170000
DTSTAMP:20260425T013735
CREATED:20260114T193409Z
LAST-MODIFIED:20260114T193409Z
UID:10000602-1788109200-1788109200@valleybrookgolf.com
SUMMARY:Tater Cup
DESCRIPTION:
URL:https://valleybrookgolf.com/event/tater-cup/
END:VEVENT
BEGIN:VEVENT
DTSTART;VALUE=DATE:20260926
DTEND;VALUE=DATE:20260927
DTSTAMP:20260425T013735
CREATED:20250304T223441Z
LAST-MODIFIED:20250304T223441Z
UID:10000091-1790380800-1790467199@valleybrookgolf.com
SUMMARY:Test Event
DESCRIPTION:
URL:https://valleybrookgolf.com/event/test-event/
END:VEVENT
END:VCALENDAR