BEGIN:VCALENDAR
VERSION:2.0
PRODID:-//Valleybrook Country Club - ECPv6.15.12.2//NONSGML v1.0//EN
CALSCALE:GREGORIAN
METHOD:PUBLISH
X-ORIGINAL-URL:https://valleybrookgolf.com
X-WR-CALDESC:Events for Valleybrook Country Club
REFRESH-INTERVAL;VALUE=DURATION:PT1H
X-Robots-Tag:noindex
X-PUBLISHED-TTL:PT1H
BEGIN:VTIMEZONE
TZID:UTC
BEGIN:STANDARD
TZOFFSETFROM:+0000
TZOFFSETTO:+0000
TZNAME:UTC
DTSTART:20250101T000000
END:STANDARD
END:VTIMEZONE
BEGIN:VEVENT
DTSTART;TZID=UTC:20260510T104500
DTEND;TZID=UTC:20260510T134500
DTSTAMP:20260425T031535
CREATED:20260330T224710Z
LAST-MODIFIED:20260417T163125Z
UID:10001716-1778409900-1778420700@valleybrookgolf.com
SUMMARY:Mother's Day Brunch
DESCRIPTION:Valleybrook Country Club is excited to host our famous Mother’s Day Brunch once again on Sunday\, May 10th! Our culinary team is preparing a decadent display of all of your favorites – including Carving Stations\, Kids Buffet and of course Dessert! \nClick HERE to reserve your table.
URL:https://valleybrookgolf.com/event/mothers-day-brunch-2/
ATTACH;FMTTYPE=image/jpeg:https://valleybrookgolf.com/wp-content/uploads/2026/03/RJG-1920-x-1080-px-6-5.24.07-PM.jpg
END:VEVENT
BEGIN:VEVENT
DTSTART;TZID=UTC:20260830T170000
DTEND;TZID=UTC:20260830T170000
DTSTAMP:20260425T031535
CREATED:20260114T193409Z
LAST-MODIFIED:20260114T193409Z
UID:10000602-1788109200-1788109200@valleybrookgolf.com
SUMMARY:Tater Cup
DESCRIPTION:
URL:https://valleybrookgolf.com/event/tater-cup/
END:VEVENT
BEGIN:VEVENT
DTSTART;VALUE=DATE:20260926
DTEND;VALUE=DATE:20260927
DTSTAMP:20260425T031535
CREATED:20250304T223441Z
LAST-MODIFIED:20250304T223441Z
UID:10000091-1790380800-1790467199@valleybrookgolf.com
SUMMARY:Test Event
DESCRIPTION:
URL:https://valleybrookgolf.com/event/test-event/
END:VEVENT
END:VCALENDAR