BEGIN:VCALENDAR
VERSION:2.0
PRODID:-//Valleybrook Country Club - ECPv6.15.12.2//NONSGML v1.0//EN
CALSCALE:GREGORIAN
METHOD:PUBLISH
X-WR-CALNAME:Valleybrook Country Club
X-ORIGINAL-URL:https://valleybrookgolf.com
X-WR-CALDESC:Events for Valleybrook Country Club
REFRESH-INTERVAL;VALUE=DURATION:PT1H
X-Robots-Tag:noindex
X-PUBLISHED-TTL:PT1H
BEGIN:VTIMEZONE
TZID:UTC
BEGIN:STANDARD
TZOFFSETFROM:+0000
TZOFFSETTO:+0000
TZNAME:UTC
DTSTART:20240101T000000
END:STANDARD
END:VTIMEZONE
BEGIN:VEVENT
DTSTART;TZID=UTC:20250801T180000
DTEND;TZID=UTC:20250801T210000
DTSTAMP:20260420T142300
CREATED:20250728T141707Z
LAST-MODIFIED:20250728T141708Z
UID:10000361-1754071200-1754082000@valleybrookgolf.com
SUMMARY:Live Music Fridays
DESCRIPTION:Join us inside Riley’s Pub for Live Music from 6-9 PM! See our August lineup: \n8/1 – Frank Ceranci\n8/8 – Leanne Tursi\n8/15 – Mitch Faber\n8/22 – 2 Dream\n8/29 – Ben V
URL:https://valleybrookgolf.com/event/live-music-fridays-24-2-2/2025-08-01/
ATTACH;FMTTYPE=image/jpeg:https://valleybrookgolf.com/wp-content/uploads/2025/03/live-music-2.jpg
END:VEVENT
BEGIN:VEVENT
DTSTART;TZID=UTC:20250802T000000
DTEND;TZID=UTC:20250802T000000
DTSTAMP:20260420T142300
CREATED:20250728T141318Z
LAST-MODIFIED:20250808T154237Z
UID:10000480-1754092800-1754092800@valleybrookgolf.com
SUMMARY:Wild Card Saturday
DESCRIPTION:Wild Card Saturday is your ticket to something exciting every weekend! Enjoy a rotating list of special events\, from theme’d live music nights\, to savory dinners\, we’ve got something for everyone. See our August lineup: \n8/2 – Karaoke Night 6-9pm\n8/9 – Frank Sinatra Night 6-8pm\n8/16 – Prime Rib Night\n8/23 – Trivia Night 6-8pm\n8/30 – Music Bingo
URL:https://valleybrookgolf.com/event/wild-card-saturday-4/2025-08-02/
ATTACH;FMTTYPE=image/jpeg:https://valleybrookgolf.com/wp-content/uploads/2025/07/RJG-1920-x-1080-px.jpg
END:VEVENT
BEGIN:VEVENT
DTSTART;TZID=UTC:20250803T110000
DTEND;TZID=UTC:20250803T220000
DTSTAMP:20260420T142300
CREATED:20250312T180813Z
LAST-MODIFIED:20250312T180813Z
UID:10000424-1754218800-1754258400@valleybrookgolf.com
SUMMARY:Sun Cruiser Sundays
DESCRIPTION:Join us inside Riley’s Pub for $5 Sun Cruisers all day on Sundays!
URL:https://valleybrookgolf.com/event/sun-cruiser-sundays/2025-08-03/
ATTACH;FMTTYPE=image/jpeg:https://valleybrookgolf.com/wp-content/uploads/2025/03/sun-cruiser-sunday.jpg
END:VEVENT
BEGIN:VEVENT
DTSTART;TZID=UTC:20250804T160000
DTEND;TZID=UTC:20250804T210000
DTSTAMP:20260420T142300
CREATED:20250312T175142Z
LAST-MODIFIED:20260327T160306Z
UID:10000118-1754323200-1754341200@valleybrookgolf.com
SUMMARY:Martini Mondays
DESCRIPTION:Join us inside Riley’s Pub every Monday for Martini Mondays! Deals take place from 4-9 PM!
URL:https://valleybrookgolf.com/event/martini-mondays/2025-08-04/
ATTACH;FMTTYPE=image/jpeg:https://valleybrookgolf.com/wp-content/uploads/2025/03/martini-mondays.jpg
END:VEVENT
BEGIN:VEVENT
DTSTART;TZID=UTC:20250805T160000
DTEND;TZID=UTC:20250805T210000
DTSTAMP:20260420T142300
CREATED:20250312T175442Z
LAST-MODIFIED:20260327T160349Z
UID:10000179-1754409600-1754427600@valleybrookgolf.com
SUMMARY:Taco Tuesday
DESCRIPTION:Join us inside Riley’s Pub every Tuesday for Taco Tuesday! Specials take place from 4-9 PM!
URL:https://valleybrookgolf.com/event/taco-tuesday/2025-08-05/
ATTACH;FMTTYPE=image/jpeg:https://valleybrookgolf.com/wp-content/uploads/2025/03/taco-tuesdays.jpg
END:VEVENT
BEGIN:VEVENT
DTSTART;TZID=UTC:20250806T110000
DTEND;TZID=UTC:20250806T210000
DTSTAMP:20260420T142300
CREATED:20250312T175623Z
LAST-MODIFIED:20250312T175623Z
UID:10000240-1754478000-1754514000@valleybrookgolf.com
SUMMARY:Wine Down Wednesdays
DESCRIPTION:Join us inside Riley’s Pub and Wine Down on Wednesdays! $5 wine ALL DAY!
URL:https://valleybrookgolf.com/event/wine-down-wednesdays/2025-08-06/
ATTACH;FMTTYPE=image/jpeg:https://valleybrookgolf.com/wp-content/uploads/2025/03/wine-down-wednesday.jpg
END:VEVENT
BEGIN:VEVENT
DTSTART;TZID=UTC:20250807T120000
DTEND;TZID=UTC:20250807T220000
DTSTAMP:20260420T142300
CREATED:20250312T175739Z
LAST-MODIFIED:20250312T175739Z
UID:10000301-1754568000-1754604000@valleybrookgolf.com
SUMMARY:Tito's Thursdays
DESCRIPTION:Join us inside Riley’s Pub every Thursday for $5 Tito’s!
URL:https://valleybrookgolf.com/event/titos-thursdays/2025-08-07/
ATTACH;FMTTYPE=image/jpeg:https://valleybrookgolf.com/wp-content/uploads/2025/03/titos-thursdays.jpg
END:VEVENT
BEGIN:VEVENT
DTSTART;TZID=UTC:20250808T180000
DTEND;TZID=UTC:20250808T210000
DTSTAMP:20260420T142300
CREATED:20250728T141707Z
LAST-MODIFIED:20250728T141708Z
UID:10000362-1754676000-1754686800@valleybrookgolf.com
SUMMARY:Live Music Fridays
DESCRIPTION:Join us inside Riley’s Pub for Live Music from 6-9 PM! See our August lineup: \n8/1 – Frank Ceranci\n8/8 – Leanne Tursi\n8/15 – Mitch Faber\n8/22 – 2 Dream\n8/29 – Ben V
URL:https://valleybrookgolf.com/event/live-music-fridays-24-2-2/2025-08-08/
ATTACH;FMTTYPE=image/jpeg:https://valleybrookgolf.com/wp-content/uploads/2025/03/live-music-2.jpg
END:VEVENT
BEGIN:VEVENT
DTSTART;TZID=UTC:20250809T000000
DTEND;TZID=UTC:20250809T000000
DTSTAMP:20260420T142300
CREATED:20250808T155455Z
LAST-MODIFIED:20250808T155455Z
UID:10000481-1754697600-1754697600@valleybrookgolf.com
SUMMARY:Wild Card Saturday - Frank Sinatra Night
DESCRIPTION:Wild Card Saturday is your ticket to something exciting every weekend! Enjoy a rotating list of special events\, from theme’d live music nights\, to savory dinners\, we’ve got something for everyone. See our August lineup: \n8/2 – Karaoke Night 6-9pm\n8/9 – Frank Sinatra Night 6-8pm\n8/16 – Prime Rib Night\n8/23 – Trivia Night 6-8pm\n8/30 – Music Bingo
URL:https://valleybrookgolf.com/event/wild-card-saturday-4-2/
ATTACH;FMTTYPE=image/jpeg:https://valleybrookgolf.com/wp-content/uploads/2025/07/RJG-1920-x-1080-px.jpg
END:VEVENT
BEGIN:VEVENT
DTSTART;TZID=UTC:20250810T110000
DTEND;TZID=UTC:20250810T220000
DTSTAMP:20260420T142300
CREATED:20250312T180813Z
LAST-MODIFIED:20250312T180813Z
UID:10000425-1754823600-1754863200@valleybrookgolf.com
SUMMARY:Sun Cruiser Sundays
DESCRIPTION:Join us inside Riley’s Pub for $5 Sun Cruisers all day on Sundays!
URL:https://valleybrookgolf.com/event/sun-cruiser-sundays/2025-08-10/
ATTACH;FMTTYPE=image/jpeg:https://valleybrookgolf.com/wp-content/uploads/2025/03/sun-cruiser-sunday.jpg
END:VEVENT
BEGIN:VEVENT
DTSTART;TZID=UTC:20250811T160000
DTEND;TZID=UTC:20250811T210000
DTSTAMP:20260420T142300
CREATED:20250312T175142Z
LAST-MODIFIED:20260327T160306Z
UID:10000119-1754928000-1754946000@valleybrookgolf.com
SUMMARY:Martini Mondays
DESCRIPTION:Join us inside Riley’s Pub every Monday for Martini Mondays! Deals take place from 4-9 PM!
URL:https://valleybrookgolf.com/event/martini-mondays/2025-08-11/
ATTACH;FMTTYPE=image/jpeg:https://valleybrookgolf.com/wp-content/uploads/2025/03/martini-mondays.jpg
END:VEVENT
BEGIN:VEVENT
DTSTART;TZID=UTC:20250812T160000
DTEND;TZID=UTC:20250812T210000
DTSTAMP:20260420T142300
CREATED:20250312T175442Z
LAST-MODIFIED:20260327T160349Z
UID:10000180-1755014400-1755032400@valleybrookgolf.com
SUMMARY:Taco Tuesday
DESCRIPTION:Join us inside Riley’s Pub every Tuesday for Taco Tuesday! Specials take place from 4-9 PM!
URL:https://valleybrookgolf.com/event/taco-tuesday/2025-08-12/
ATTACH;FMTTYPE=image/jpeg:https://valleybrookgolf.com/wp-content/uploads/2025/03/taco-tuesdays.jpg
END:VEVENT
BEGIN:VEVENT
DTSTART;TZID=UTC:20250813T110000
DTEND;TZID=UTC:20250813T210000
DTSTAMP:20260420T142300
CREATED:20250312T175623Z
LAST-MODIFIED:20250312T175623Z
UID:10000241-1755082800-1755118800@valleybrookgolf.com
SUMMARY:Wine Down Wednesdays
DESCRIPTION:Join us inside Riley’s Pub and Wine Down on Wednesdays! $5 wine ALL DAY!
URL:https://valleybrookgolf.com/event/wine-down-wednesdays/2025-08-13/
ATTACH;FMTTYPE=image/jpeg:https://valleybrookgolf.com/wp-content/uploads/2025/03/wine-down-wednesday.jpg
END:VEVENT
BEGIN:VEVENT
DTSTART;TZID=UTC:20250814T120000
DTEND;TZID=UTC:20250814T220000
DTSTAMP:20260420T142300
CREATED:20250312T175739Z
LAST-MODIFIED:20250312T175739Z
UID:10000302-1755172800-1755208800@valleybrookgolf.com
SUMMARY:Tito's Thursdays
DESCRIPTION:Join us inside Riley’s Pub every Thursday for $5 Tito’s!
URL:https://valleybrookgolf.com/event/titos-thursdays/2025-08-14/
ATTACH;FMTTYPE=image/jpeg:https://valleybrookgolf.com/wp-content/uploads/2025/03/titos-thursdays.jpg
END:VEVENT
BEGIN:VEVENT
DTSTART;TZID=UTC:20250815T180000
DTEND;TZID=UTC:20250815T210000
DTSTAMP:20260420T142300
CREATED:20250728T141707Z
LAST-MODIFIED:20250728T141708Z
UID:10000363-1755280800-1755291600@valleybrookgolf.com
SUMMARY:Live Music Fridays
DESCRIPTION:Join us inside Riley’s Pub for Live Music from 6-9 PM! See our August lineup: \n8/1 – Frank Ceranci\n8/8 – Leanne Tursi\n8/15 – Mitch Faber\n8/22 – 2 Dream\n8/29 – Ben V
URL:https://valleybrookgolf.com/event/live-music-fridays-24-2-2/2025-08-15/
ATTACH;FMTTYPE=image/jpeg:https://valleybrookgolf.com/wp-content/uploads/2025/03/live-music-2.jpg
END:VEVENT
BEGIN:VEVENT
DTSTART;TZID=UTC:20250816T000000
DTEND;TZID=UTC:20250816T000000
DTSTAMP:20260420T142300
CREATED:20250808T155540Z
LAST-MODIFIED:20250808T155541Z
UID:10000482-1755302400-1755302400@valleybrookgolf.com
SUMMARY:Wild Card Saturday-Prime Rib Night
DESCRIPTION:Wild Card Saturday is your ticket to something exciting every weekend! Enjoy a rotating list of special events\, from theme’d live music nights\, to savory dinners\, we’ve got something for everyone. See our August lineup: \n8/2 – Karaoke Night 6-9pm\n8/9 – Frank Sinatra Night 6-8pm\n8/16 – Prime Rib Night\n8/23 – Trivia Night 6-8pm\n8/30 – Music Bingo
URL:https://valleybrookgolf.com/event/wild-card-saturday-4-3/
ATTACH;FMTTYPE=image/jpeg:https://valleybrookgolf.com/wp-content/uploads/2025/07/RJG-1920-x-1080-px.jpg
END:VEVENT
BEGIN:VEVENT
DTSTART;TZID=UTC:20250817T110000
DTEND;TZID=UTC:20250817T220000
DTSTAMP:20260420T142300
CREATED:20250312T180813Z
LAST-MODIFIED:20250312T180813Z
UID:10000426-1755428400-1755468000@valleybrookgolf.com
SUMMARY:Sun Cruiser Sundays
DESCRIPTION:Join us inside Riley’s Pub for $5 Sun Cruisers all day on Sundays!
URL:https://valleybrookgolf.com/event/sun-cruiser-sundays/2025-08-17/
ATTACH;FMTTYPE=image/jpeg:https://valleybrookgolf.com/wp-content/uploads/2025/03/sun-cruiser-sunday.jpg
END:VEVENT
BEGIN:VEVENT
DTSTART;TZID=UTC:20250818T160000
DTEND;TZID=UTC:20250818T210000
DTSTAMP:20260420T142300
CREATED:20250312T175142Z
LAST-MODIFIED:20260327T160306Z
UID:10000120-1755532800-1755550800@valleybrookgolf.com
SUMMARY:Martini Mondays
DESCRIPTION:Join us inside Riley’s Pub every Monday for Martini Mondays! Deals take place from 4-9 PM!
URL:https://valleybrookgolf.com/event/martini-mondays/2025-08-18/
ATTACH;FMTTYPE=image/jpeg:https://valleybrookgolf.com/wp-content/uploads/2025/03/martini-mondays.jpg
END:VEVENT
BEGIN:VEVENT
DTSTART;TZID=UTC:20250819T160000
DTEND;TZID=UTC:20250819T210000
DTSTAMP:20260420T142300
CREATED:20250312T175442Z
LAST-MODIFIED:20260327T160349Z
UID:10000181-1755619200-1755637200@valleybrookgolf.com
SUMMARY:Taco Tuesday
DESCRIPTION:Join us inside Riley’s Pub every Tuesday for Taco Tuesday! Specials take place from 4-9 PM!
URL:https://valleybrookgolf.com/event/taco-tuesday/2025-08-19/
ATTACH;FMTTYPE=image/jpeg:https://valleybrookgolf.com/wp-content/uploads/2025/03/taco-tuesdays.jpg
END:VEVENT
BEGIN:VEVENT
DTSTART;TZID=UTC:20250820T110000
DTEND;TZID=UTC:20250820T210000
DTSTAMP:20260420T142300
CREATED:20250312T175623Z
LAST-MODIFIED:20250312T175623Z
UID:10000242-1755687600-1755723600@valleybrookgolf.com
SUMMARY:Wine Down Wednesdays
DESCRIPTION:Join us inside Riley’s Pub and Wine Down on Wednesdays! $5 wine ALL DAY!
URL:https://valleybrookgolf.com/event/wine-down-wednesdays/2025-08-20/
ATTACH;FMTTYPE=image/jpeg:https://valleybrookgolf.com/wp-content/uploads/2025/03/wine-down-wednesday.jpg
END:VEVENT
BEGIN:VEVENT
DTSTART;TZID=UTC:20250821T120000
DTEND;TZID=UTC:20250821T220000
DTSTAMP:20260420T142300
CREATED:20250312T175739Z
LAST-MODIFIED:20250312T175739Z
UID:10000303-1755777600-1755813600@valleybrookgolf.com
SUMMARY:Tito's Thursdays
DESCRIPTION:Join us inside Riley’s Pub every Thursday for $5 Tito’s!
URL:https://valleybrookgolf.com/event/titos-thursdays/2025-08-21/
ATTACH;FMTTYPE=image/jpeg:https://valleybrookgolf.com/wp-content/uploads/2025/03/titos-thursdays.jpg
END:VEVENT
BEGIN:VEVENT
DTSTART;TZID=UTC:20250821T183000
DTEND;TZID=UTC:20250821T210000
DTSTAMP:20260420T142300
CREATED:20250728T135425Z
LAST-MODIFIED:20250819T173821Z
UID:10000479-1755801000-1755810000@valleybrookgolf.com
SUMMARY:Summer Concert
DESCRIPTION:Join us for our FREE Summer Concert Series!
URL:https://valleybrookgolf.com/event/summer-concert-5/
ATTACH;FMTTYPE=image/jpeg:https://valleybrookgolf.com/wp-content/uploads/2025/07/vcc-june-concert-flyer-1.jpg
END:VEVENT
BEGIN:VEVENT
DTSTART;TZID=UTC:20250822T180000
DTEND;TZID=UTC:20250822T210000
DTSTAMP:20260420T142300
CREATED:20250728T141707Z
LAST-MODIFIED:20250728T141708Z
UID:10000364-1755885600-1755896400@valleybrookgolf.com
SUMMARY:Live Music Fridays
DESCRIPTION:Join us inside Riley’s Pub for Live Music from 6-9 PM! See our August lineup: \n8/1 – Frank Ceranci\n8/8 – Leanne Tursi\n8/15 – Mitch Faber\n8/22 – 2 Dream\n8/29 – Ben V
URL:https://valleybrookgolf.com/event/live-music-fridays-24-2-2/2025-08-22/
ATTACH;FMTTYPE=image/jpeg:https://valleybrookgolf.com/wp-content/uploads/2025/03/live-music-2.jpg
END:VEVENT
BEGIN:VEVENT
DTSTART;TZID=UTC:20250823T000000
DTEND;TZID=UTC:20250823T000000
DTSTAMP:20260420T142300
CREATED:20250808T155657Z
LAST-MODIFIED:20250808T155659Z
UID:10000483-1755907200-1755907200@valleybrookgolf.com
SUMMARY:Wild Card Saturday-Trivia Night
DESCRIPTION:Wild Card Saturday is your ticket to something exciting every weekend! Enjoy a rotating list of special events\, from theme’d live music nights\, to savory dinners\, we’ve got something for everyone. See our August lineup: \n8/2 – Karaoke Night 6-9pm\n8/9 – Frank Sinatra Night 6-8pm\n8/16 – Prime Rib Night\n8/23 – Trivia Night 6-8pm\n8/30 – Music Bingo
URL:https://valleybrookgolf.com/event/wild-card-saturday-4-4/
ATTACH;FMTTYPE=image/jpeg:https://valleybrookgolf.com/wp-content/uploads/2025/07/RJG-1920-x-1080-px.jpg
END:VEVENT
BEGIN:VEVENT
DTSTART;TZID=UTC:20250824T110000
DTEND;TZID=UTC:20250824T220000
DTSTAMP:20260420T142300
CREATED:20250312T180813Z
LAST-MODIFIED:20250312T180813Z
UID:10000427-1756033200-1756072800@valleybrookgolf.com
SUMMARY:Sun Cruiser Sundays
DESCRIPTION:Join us inside Riley’s Pub for $5 Sun Cruisers all day on Sundays!
URL:https://valleybrookgolf.com/event/sun-cruiser-sundays/2025-08-24/
ATTACH;FMTTYPE=image/jpeg:https://valleybrookgolf.com/wp-content/uploads/2025/03/sun-cruiser-sunday.jpg
END:VEVENT
BEGIN:VEVENT
DTSTART;TZID=UTC:20250825T160000
DTEND;TZID=UTC:20250825T210000
DTSTAMP:20260420T142300
CREATED:20250312T175142Z
LAST-MODIFIED:20260327T160306Z
UID:10000121-1756137600-1756155600@valleybrookgolf.com
SUMMARY:Martini Mondays
DESCRIPTION:Join us inside Riley’s Pub every Monday for Martini Mondays! Deals take place from 4-9 PM!
URL:https://valleybrookgolf.com/event/martini-mondays/2025-08-25/
ATTACH;FMTTYPE=image/jpeg:https://valleybrookgolf.com/wp-content/uploads/2025/03/martini-mondays.jpg
END:VEVENT
BEGIN:VEVENT
DTSTART;TZID=UTC:20250826T160000
DTEND;TZID=UTC:20250826T210000
DTSTAMP:20260420T142300
CREATED:20250312T175442Z
LAST-MODIFIED:20260327T160349Z
UID:10000182-1756224000-1756242000@valleybrookgolf.com
SUMMARY:Taco Tuesday
DESCRIPTION:Join us inside Riley’s Pub every Tuesday for Taco Tuesday! Specials take place from 4-9 PM!
URL:https://valleybrookgolf.com/event/taco-tuesday/2025-08-26/
ATTACH;FMTTYPE=image/jpeg:https://valleybrookgolf.com/wp-content/uploads/2025/03/taco-tuesdays.jpg
END:VEVENT
BEGIN:VEVENT
DTSTART;TZID=UTC:20250827T110000
DTEND;TZID=UTC:20250827T210000
DTSTAMP:20260420T142300
CREATED:20250312T175623Z
LAST-MODIFIED:20250312T175623Z
UID:10000243-1756292400-1756328400@valleybrookgolf.com
SUMMARY:Wine Down Wednesdays
DESCRIPTION:Join us inside Riley’s Pub and Wine Down on Wednesdays! $5 wine ALL DAY!
URL:https://valleybrookgolf.com/event/wine-down-wednesdays/2025-08-27/
ATTACH;FMTTYPE=image/jpeg:https://valleybrookgolf.com/wp-content/uploads/2025/03/wine-down-wednesday.jpg
END:VEVENT
BEGIN:VEVENT
DTSTART;TZID=UTC:20250828T120000
DTEND;TZID=UTC:20250828T220000
DTSTAMP:20260420T142300
CREATED:20250312T175739Z
LAST-MODIFIED:20250312T175739Z
UID:10000304-1756382400-1756418400@valleybrookgolf.com
SUMMARY:Tito's Thursdays
DESCRIPTION:Join us inside Riley’s Pub every Thursday for $5 Tito’s!
URL:https://valleybrookgolf.com/event/titos-thursdays/2025-08-28/
ATTACH;FMTTYPE=image/jpeg:https://valleybrookgolf.com/wp-content/uploads/2025/03/titos-thursdays.jpg
END:VEVENT
BEGIN:VEVENT
DTSTART;TZID=UTC:20250829T180000
DTEND;TZID=UTC:20250829T210000
DTSTAMP:20260420T142300
CREATED:20250728T141707Z
LAST-MODIFIED:20250728T141708Z
UID:10000365-1756490400-1756501200@valleybrookgolf.com
SUMMARY:Live Music Fridays
DESCRIPTION:Join us inside Riley’s Pub for Live Music from 6-9 PM! See our August lineup: \n8/1 – Frank Ceranci\n8/8 – Leanne Tursi\n8/15 – Mitch Faber\n8/22 – 2 Dream\n8/29 – Ben V
URL:https://valleybrookgolf.com/event/live-music-fridays-24-2-2/2025-08-29/
ATTACH;FMTTYPE=image/jpeg:https://valleybrookgolf.com/wp-content/uploads/2025/03/live-music-2.jpg
END:VEVENT
END:VCALENDAR