BEGIN:VCALENDAR
VERSION:2.0
PRODID:-//Valleybrook Country Club - ECPv6.15.12.2//NONSGML v1.0//EN
CALSCALE:GREGORIAN
METHOD:PUBLISH
X-WR-CALNAME:Valleybrook Country Club
X-ORIGINAL-URL:https://valleybrookgolf.com
X-WR-CALDESC:Events for Valleybrook Country Club
REFRESH-INTERVAL;VALUE=DURATION:PT1H
X-Robots-Tag:noindex
X-PUBLISHED-TTL:PT1H
BEGIN:VTIMEZONE
TZID:UTC
BEGIN:STANDARD
TZOFFSETFROM:+0000
TZOFFSETTO:+0000
TZNAME:UTC
DTSTART:20250101T000000
END:STANDARD
END:VTIMEZONE
BEGIN:VEVENT
DTSTART;TZID=UTC:20260424T180000
DTEND;TZID=UTC:20260424T210000
DTSTAMP:20260424T203521
CREATED:20260327T155712Z
LAST-MODIFIED:20260327T155712Z
UID:10000690-1777053600-1777064400@valleybrookgolf.com
SUMMARY:Live Music Fridays
DESCRIPTION:Join us inside Riley’s Pub for Live Music from 6-9 PM! See our April lineup: \n\n4/24 – Matt MacPherson
URL:https://valleybrookgolf.com/event/live-music-fridays-45/
ATTACH;FMTTYPE=image/jpeg:https://valleybrookgolf.com/wp-content/uploads/2025/03/live-music-2.jpg
END:VEVENT
BEGIN:VEVENT
DTSTART;TZID=UTC:20260425T180000
DTEND;TZID=UTC:20260425T210000
DTSTAMP:20260424T203521
CREATED:20260331T215605Z
LAST-MODIFIED:20260331T215605Z
UID:10001720-1777140000-1777150800@valleybrookgolf.com
SUMMARY:Wild Card Saturday - Bingo
DESCRIPTION:Join us for Wild Card Saturday\, your ticket to something exciting every weekend! View our April lineup below: \n\n4/25 – Bingo 6-9pm
URL:https://valleybrookgolf.com/event/wild-card-saturday-bingo-2/
ATTACH;FMTTYPE=image/jpeg:https://valleybrookgolf.com/wp-content/uploads/2025/07/RJG-1920-x-1080-px.jpg
END:VEVENT
BEGIN:VEVENT
DTSTART;TZID=UTC:20260427T160000
DTEND;TZID=UTC:20260427T210000
DTSTAMP:20260424T203521
CREATED:20250312T175142Z
LAST-MODIFIED:20260327T160306Z
UID:10000156-1777305600-1777323600@valleybrookgolf.com
SUMMARY:Martini Mondays
DESCRIPTION:Join us inside Riley’s Pub every Monday for Martini Mondays! Deals take place from 4-9 PM!
URL:https://valleybrookgolf.com/event/martini-mondays/2026-04-27/
ATTACH;FMTTYPE=image/jpeg:https://valleybrookgolf.com/wp-content/uploads/2025/03/martini-mondays.jpg
END:VEVENT
BEGIN:VEVENT
DTSTART;TZID=UTC:20260428T160000
DTEND;TZID=UTC:20260428T210000
DTSTAMP:20260424T203521
CREATED:20250312T175442Z
LAST-MODIFIED:20260327T160349Z
UID:10000217-1777392000-1777410000@valleybrookgolf.com
SUMMARY:Taco Tuesday
DESCRIPTION:Join us inside Riley’s Pub every Tuesday for Taco Tuesday! Specials take place from 4-9 PM!
URL:https://valleybrookgolf.com/event/taco-tuesday/2026-04-28/
ATTACH;FMTTYPE=image/jpeg:https://valleybrookgolf.com/wp-content/uploads/2025/03/taco-tuesdays.jpg
END:VEVENT
BEGIN:VEVENT
DTSTART;VALUE=DATE:20260429
DTEND;VALUE=DATE:20260430
DTSTAMP:20260424T203521
CREATED:20260319T201049Z
LAST-MODIFIED:20260327T160632Z
UID:10000685-1777420800-1777507199@valleybrookgolf.com
SUMMARY:Wine Down Wednesdays
DESCRIPTION:Join us inside Riley’s Pub and Wine Down on Wednesdays! $5 glasses of wine ALL DAY!
URL:https://valleybrookgolf.com/event/wine-down-wednesdays-2/2026-04-29/
ATTACH;FMTTYPE=image/jpeg:https://valleybrookgolf.com/wp-content/uploads/2025/03/wine-down-wednesday.jpg
END:VEVENT
BEGIN:VEVENT
DTSTART;VALUE=DATE:20260430
DTEND;VALUE=DATE:20260501
DTSTAMP:20260424T203521
CREATED:20260319T201016Z
LAST-MODIFIED:20260327T160754Z
UID:10000678-1777507200-1777593599@valleybrookgolf.com
SUMMARY:Tito's Thursdays
DESCRIPTION:Join us inside Riley’s Pub every Thursday for $5 Tito’s drinks all day long!
URL:https://valleybrookgolf.com/event/titos-thursdays-2/2026-04-30/
ATTACH;FMTTYPE=image/jpeg:https://valleybrookgolf.com/wp-content/uploads/2025/03/titos-thursdays.jpg
END:VEVENT
END:VCALENDAR