BEGIN:VCALENDAR
VERSION:2.0
PRODID:-//Valleybrook Country Club - ECPv6.15.12.2//NONSGML v1.0//EN
CALSCALE:GREGORIAN
METHOD:PUBLISH
X-WR-CALNAME:Valleybrook Country Club
X-ORIGINAL-URL:https://valleybrookgolf.com
X-WR-CALDESC:Events for Valleybrook Country Club
REFRESH-INTERVAL;VALUE=DURATION:PT1H
X-Robots-Tag:noindex
X-PUBLISHED-TTL:PT1H
BEGIN:VTIMEZONE
TZID:UTC
BEGIN:STANDARD
TZOFFSETFROM:+0000
TZOFFSETTO:+0000
TZNAME:UTC
DTSTART:20250101T000000
END:STANDARD
END:VTIMEZONE
BEGIN:VEVENT
DTSTART;TZID=UTC:20260425T180000
DTEND;TZID=UTC:20260425T210000
DTSTAMP:20260425T000011
CREATED:20260331T215605Z
LAST-MODIFIED:20260331T215605Z
UID:10001720-1777140000-1777150800@valleybrookgolf.com
SUMMARY:Wild Card Saturday - Bingo
DESCRIPTION:Join us for Wild Card Saturday\, your ticket to something exciting every weekend! View our April lineup below: \n\n4/25 – Bingo 6-9pm
URL:https://valleybrookgolf.com/event/wild-card-saturday-bingo-2/
ATTACH;FMTTYPE=image/jpeg:https://valleybrookgolf.com/wp-content/uploads/2025/07/RJG-1920-x-1080-px.jpg
END:VEVENT
END:VCALENDAR